{"text_format":"1","workbook":"xlsx","n_sheets":3,"sheets":["Output","Ark1","Beregningsark"],"not_rendered":{"charts":1,"images":3,"macros":1,"external_links":0,"defined_names":18,"comments":0,"pivot_tables":0},"unopened":[],"bounds":{"document_bytes":16777216,"sheet_cells":100000,"rows_first":2000,"rows_last":500,"rows_between":2000,"halvings":0,"cell_chars":16384,"cell_head_chars":4096},"cells_cut":0,"cells_raw":0,"read":"whole","date_system":"1900"}

{"sheet":"Output","index":0,"n_rows":39,"n_cols":6,"rows_kept":39,"cut":false,"hidden":false,"merged":[[38,1,39,2],[42,1,42,2],[10,1,11,2],[0,0,1,8],[6,1,7,2],[2,4,2,5],[2,1,2,2],[37,1,37,2],[8,1,8,2],[9,1,9,2],[12,1,12,2],[14,1,14,2],[15,1,15,2],[28,1,28,2]]}
["BYGST rentabilitetsberegner vedr. energitiltag"]
[]
[null,"For at beregne om et energitiltag er rentabelt, benyttes en investeringskalkyle fra Økonomi-styrelsens hjemmeside, www.oes.dk, som anvendes for alle investeringer i staten. I investeringskalkylen beregnes nettonutidsværdien. Når den er positiv, er tiltaget rentabelt.\nNettonutidsværdien beregnes efter formlen:",null,null,"\nBygningsstyrelsens standarder for beregningsmæssige levetider"]
[null,null,null,null,"Efterisolering af bygningsdele","40 år"]
[null,null,null,null,"Vinduer samt forsatsrammer og koblede rammer","30 år"]
[null,null,null,null,"Varmeanlæg, radiatorer og gulvvarme samt ventilationskanaler og armaturer inklusive isolering","30 år"]
[null,"▪ Nettonutidsværdien er differencen mellem initialinvesteringen og nutidsværdien af   besparelserne i aktivets levetid.",null,null,"Varmeproducerende anlæg mv., f.eks. kedler, varmepumper, solvarmeanlæg, ventilationsaggregater","20 år"]
[null,null,null,null,"Belysningsarmaturer","15 år"]
[null,"▪ Investeringen er initialinvesteringen i kr. (fx udgifterne til at hulmursisolere).",null,null,"Automatik til varme og klimaanlæg","15 år"]
[null,"▪ t er energitiltagets levetid i år.",null,null,"Fugetætningsarbejder","10 år"]
[null,"▪ s er stigningstakten i energipriser udover inflationen. Stigningstakten er 0,92 pct. pr. år, som er beregnet på grundlag af Energistyrelsens energiprisprognoser fra Forudsætninger for Samfundsøkonomiske Analyser(April 2011), tabel 1C, 7, 14 og 16 "]
[]
[null,"▪ r er diskonteringsfaktoren, som er fastsat til 4 pct. de første 35 år, derefter 3 pct. de efterfølgende 35 år af Finansministeriet. \nKilde: www.fm.dk"]
[]
[null,"▪ Rentabiliteten beregnes ved at udfylde investering, besparelse og levetid i nedenstående hvide felter.",null,null,null,2.349108367626877E-2]
[null,"▪ Besparelserne i kroner skal findes udelukkende med baggrund i den årlige kWh-besparelse. Anvend de lokale energipriser til at beregne besparelser."]
[null,null,null,null,null,1.9601273245099755E-2]
["<","Beskrivelse af projekt","Rørisolering  (50 mm)",null,null,-1.8939393939393413E-3]
[null,null,null,null,null,3.605313092979124E-2]
[null,"Stigningstakt i energipriser                 s",9.1999999999999998E-3]
[null,"Diskonteringsrente i pct. (0-35 år)                     r   ",0.04,null,null,1.5567765567765511E-2]
[null,"Diskonteringsrente i pct. (36-70 år)                     r   ",0.03,null,null,3.0958821761346563E-2]
[null,"Diskonteringsrente i pct. (70 + år)                     r   ",0.02]
[null,"*Investering i kr.",100000,null,null,1.2589701624071678E-2]
[null,"*Årlig elbesparelse i kr.",5000,null,null,1.6098865976940682E-2]
[null,"*Årlig fjernvarmebesparelse i kr.",2500]
[null,"*Årlig besparelse af gas i kr.",0,null,null,1.621659404925576E-2]
[null,"*Teknisk levetid i hele år  ",20,null,null,1.6187091596927456E-2]
[null,"Felter med * skal udfyldes (besparelserne udfyldes efter energikilde)",null,null,null,1.6154870151846905E-2]
[null,null,null,null,null,1.6164486977374083E-2]
[null,"Nutidsværdi af besparelse i kr.",{"$f":"Beregningsark!$I$7","v":111047.29789930915},null,null,1.5907352780509049E-2]
[null,"Investering i kr.",{"$f":"$C$24","v":100000},null,null,1.6088443421590385E-2]
[null,"Nettonutidsværdi i kr.",{"$f":"$C$31-$C$32","v":11047.297899309153},null,null,1.6024216252831382E-2]
[null,"Nettonutidsværdi i pct. af investering",{"$f":"$C$33/$C$24","v":0.11047297899309153}]
[null,"Antal år før nutidsværdi = investering",{"$f":"Beregningsark!$G$4","v":17.381541321338982},null,null,1.612567190299586E-2]
[null,null,null,null,null,1.6136307717542757E-2]
[null,"Rentabelt?",{"$f":"IF($C$33<0,\"Nej\",\"Ja\")","v":"Ja"},null,null,1.6344155451078604E-2]
[null,{"$f":"IF(($C$33)<0,\"Investeringen er ikke rentabel med de valgte forudsætninger\",\"Investeringen er rentabel med de valgte forudsætninger\")","v":"Investeringen er rentabel med de valgte forudsætninger"},null,null,null,1.6458536004288343E-2]
[null,"Bemærk: En negativ nettonutidsværdi angiver, hvor meget initialinvesteringen skal nedsættes, før tiltaget vil begynde at være rentabelt"]

{"sheet":"Ark1","index":1,"n_rows":10,"n_cols":2,"rows_kept":10,"cut":false,"hidden":false,"merged":[[0,0,0,1]]}
["Beregningsmæssige levetider"]
[null,"SES"]
["Efterisolering af beskyttende bygningsdele, fx hulmursisolering","40 år"]
["Øvrige efterisoleringsarbejder for tilgængelige bygningsdele samt nye opvarmningssystemer","20 år"]
["Nye vinduer","30 år"]
["Renovering af kedelanlæg","10 år"]
["Belysningsarmaturer","20 år"]
["Automatik til natsænkning","10 år"]
["Fugetætningsarbejder","5 år"]
["Forsatsvinduer","30 år"]

{"sheet":"Beregningsark","index":2,"n_rows":104,"n_cols":14,"rows_kept":104,"cut":false,"hidden":false,"merged":[]}
[]
[]
[null,"t","Akkumuleret nutidsværdi af besparelse","Akkumuleret nettonutidsværdi af betalingsstrøm","nettonutidsværdi af betalingsstrøm","Investering","ved nv = I er t","Nettonutidsværdi ved endt levetid"]
[null,1,{"$f":"(Output!$C$25+Output!$C$26+Output!$C$27)*(((1+Output!$C$20)^Beregningsark!B4)/(1+Output!$C$21)^Beregningsark!B4)","v":7277.8846153846152},{"$f":"C4-F4","v":-92722.11538461539},{"$f":"C4-F4","v":-92722.11538461539},{"$f":"Output!$C$32","v":100000},{"$f":"INDEX($B$4:$B$104-$D$4:$D$104/$E$4:$E$104,SUM(IF($D$4:$D$104<=0,1,0))+1,1)","v":17.381541321338982},{"$f":"Output!$C$28","v":20},{"$f":"IF(Output!C32<Output!C31,Output!$C$24,0)","v":100000},"Investering"]
[null,2,{"$f":"C4+(Output!$C$25+Output!$C$26+Output!$C$27)*(((1+Output!$C$20)^Beregningsark!B5)/(1+Output!$C$21)^Beregningsark!B5)","v":14340.231878698225},{"$f":"D4+(Output!$C$25+Output!$C$26+Output!$C$27)*(((1+Output!$C$20)^Beregningsark!B5)/(1+Output!$C$21)^Beregningsark!B5)","v":-85659.768121301779},{"$f":"(Output!$C$25+Output!$C$26+Output!$C$27)*(((1+Output!$C$20)^Beregningsark!B5)/(1+Output!$C$21)^Beregningsark!B5)","v":7062.3472633136107},{"$f":"Output!$C$32","v":100000},null,{"$f":"Output!$C$28","v":20},{"$f":"IF(Output!C32<Output!C31,Beregningsark!I7,0)","v":111047.29789930915},"Nutidsværdi"]
[null,3,{"$f":"C5+(Output!$C$25+Output!$C$26+Output!$C$27)*(((1+Output!$C$20)^Beregningsark!B6)/(1+Output!$C$21)^Beregningsark!B6)","v":21193.425011521394},{"$f":"D5+(Output!$C$25+Output!$C$26+Output!$C$27)*(((1+Output!$C$20)^Beregningsark!B6)/(1+Output!$C$21)^Beregningsark!B6)","v":-78806.574988478606},{"$f":"(Output!$C$25+Output!$C$26+Output!$C$27)*(((1+Output!$C$20)^Beregningsark!B6)/(1+Output!$C$21)^Beregningsark!B6)","v":6853.1931328231703},{"$f":"Output!$C$32","v":100000}]
[null,4,{"$f":"C6+(Output!$C$25+Output!$C$26+Output!$C$27)*(((1+Output!$C$20)^Beregningsark!B7)/(1+Output!$C$21)^Beregningsark!B7)","v":27843.658193872496},{"$f":"D6+(Output!$C$25+Output!$C$26+Output!$C$27)*(((1+Output!$C$20)^Beregningsark!B7)/(1+Output!$C$21)^Beregningsark!B7)","v":-72156.341806127501},{"$f":"(Output!$C$25+Output!$C$26+Output!$C$27)*(((1+Output!$C$20)^Beregningsark!B7)/(1+Output!$C$21)^Beregningsark!B7)","v":6650.2331823511004},{"$f":"Output!$C$32","v":100000},null,"NUTIDSVÆRDI",{"$f":"VLOOKUP($H$5,$B$4:$C$104,2,FALSE)","v":111047.29789930915}]
[null,5,{"$f":"C7+(Output!$C$25+Output!$C$26+Output!$C$27)*(((1+Output!$C$20)^Beregningsark!B8)/(1+Output!$C$21)^Beregningsark!B8)","v":34296.942162746273},{"$f":"D7+(Output!$C$25+Output!$C$26+Output!$C$27)*(((1+Output!$C$20)^Beregningsark!B8)/(1+Output!$C$21)^Beregningsark!B8)","v":-65703.057837253727},{"$f":"(Output!$C$25+Output!$C$26+Output!$C$27)*(((1+Output!$C$20)^Beregningsark!B8)/(1+Output!$C$21)^Beregningsark!B8)","v":6453.2839688737786},{"$f":"Output!$C$32","v":100000}]
[null,6,{"$f":"C8+(Output!$C$25+Output!$C$26+Output!$C$27)*(((1+Output!$C$20)^Beregningsark!B9)/(1+Output!$C$21)^Beregningsark!B9)","v":40559.109644849559},{"$f":"D8+(Output!$C$25+Output!$C$26+Output!$C$27)*(((1+Output!$C$20)^Beregningsark!B9)/(1+Output!$C$21)^Beregningsark!B9)","v":-59440.890355150441},{"$f":"(Output!$C$25+Output!$C$26+Output!$C$27)*(((1+Output!$C$20)^Beregningsark!B9)/(1+Output!$C$21)^Beregningsark!B9)","v":6262.1674821032866},{"$f":"Output!$C$32","v":100000}]
[null,7,{"$f":"C9+(Output!$C$25+Output!$C$26+Output!$C$27)*(((1+Output!$C$20)^Beregningsark!B10)/(1+Output!$C$21)^Beregningsark!B10)","v":46635.820628444402},{"$f":"D9+(Output!$C$25+Output!$C$26+Output!$C$27)*(((1+Output!$C$20)^Beregningsark!B10)/(1+Output!$C$21)^Beregningsark!B10)","v":-53364.179371555598},{"$f":"(Output!$C$25+Output!$C$26+Output!$C$27)*(((1+Output!$C$20)^Beregningsark!B10)/(1+Output!$C$21)^Beregningsark!B10)","v":6076.710983594844},{"$f":"Output!$C$32","v":100000}]
[null,8,{"$f":"C10+(Output!$C$25+Output!$C$26+Output!$C$27)*(((1+Output!$C$20)^Beregningsark!B11)/(1+Output!$C$21)^Beregningsark!B11)","v":52532.567479063553},{"$f":"D10+(Output!$C$25+Output!$C$26+Output!$C$27)*(((1+Output!$C$20)^Beregningsark!B11)/(1+Output!$C$21)^Beregningsark!B11)","v":-47467.432520936447},{"$f":"(Output!$C$25+Output!$C$26+Output!$C$27)*(((1+Output!$C$20)^Beregningsark!B11)/(1+Output!$C$21)^Beregningsark!B11)","v":5896.7468506191517},{"$f":"Output!$C$32","v":100000},null,null,null,null,null,null,null,"Dynamisk pay-back metode"]
[null,9,{"$f":"C11+(Output!$C$25+Output!$C$26+Output!$C$27)*(((1+Output!$C$20)^Beregningsark!B12)/(1+Output!$C$21)^Beregningsark!B12)","v":58254.679903722063},{"$f":"D11+(Output!$C$25+Output!$C$26+Output!$C$27)*(((1+Output!$C$20)^Beregningsark!B12)/(1+Output!$C$21)^Beregningsark!B12)","v":-41745.320096277937},{"$f":"(Output!$C$25+Output!$C$26+Output!$C$27)*(((1+Output!$C$20)^Beregningsark!B12)/(1+Output!$C$21)^Beregningsark!B12)","v":5722.1124246585068},{"$f":"Output!$C$32","v":100000}]
[null,10,{"$f":"C12+(Output!$C$25+Output!$C$26+Output!$C$27)*(((1+Output!$C$20)^Beregningsark!B13)/(1+Output!$C$21)^Beregningsark!B13)","v":63807.329768111835},{"$f":"D12+(Output!$C$25+Output!$C$26+Output!$C$27)*(((1+Output!$C$20)^Beregningsark!B13)/(1+Output!$C$21)^Beregningsark!B13)","v":-36192.670231888165},{"$f":"(Output!$C$25+Output!$C$26+Output!$C$27)*(((1+Output!$C$20)^Beregningsark!B13)/(1+Output!$C$21)^Beregningsark!B13)","v":5552.6498643897748},{"$f":"Output!$C$32","v":100000}]
[null,11,{"$f":"C13+(Output!$C$25+Output!$C$26+Output!$C$27)*(((1+Output!$C$20)^Beregningsark!B14)/(1+Output!$C$21)^Beregningsark!B14)","v":69195.535771133145},{"$f":"D13+(Output!$C$25+Output!$C$26+Output!$C$27)*(((1+Output!$C$20)^Beregningsark!B14)/(1+Output!$C$21)^Beregningsark!B14)","v":-30804.464228866855},{"$f":"(Output!$C$25+Output!$C$26+Output!$C$27)*(((1+Output!$C$20)^Beregningsark!B14)/(1+Output!$C$21)^Beregningsark!B14)","v":5388.2060030213088},{"$f":"Output!$C$32","v":100000}]
[null,12,{"$f":"C14+(Output!$C$25+Output!$C$26+Output!$C$27)*(((1+Output!$C$20)^Beregningsark!B15)/(1+Output!$C$21)^Beregningsark!B15)","v":74424.167980988059},{"$f":"D14+(Output!$C$25+Output!$C$26+Output!$C$27)*(((1+Output!$C$20)^Beregningsark!B15)/(1+Output!$C$21)^Beregningsark!B15)","v":-25575.832019011945},{"$f":"(Output!$C$25+Output!$C$26+Output!$C$27)*(((1+Output!$C$20)^Beregningsark!B15)/(1+Output!$C$21)^Beregningsark!B15)","v":5228.6322098549099},{"$f":"Output!$C$32","v":100000}]
[null,13,{"$f":"C15+(Output!$C$25+Output!$C$26+Output!$C$27)*(((1+Output!$C$20)^Beregningsark!B16)/(1+Output!$C$21)^Beregningsark!B16)","v":79497.952236935729},{"$f":"D15+(Output!$C$25+Output!$C$26+Output!$C$27)*(((1+Output!$C$20)^Beregningsark!B16)/(1+Output!$C$21)^Beregningsark!B16)","v":-20502.047763064278},{"$f":"(Output!$C$25+Output!$C$26+Output!$C$27)*(((1+Output!$C$20)^Beregningsark!B16)/(1+Output!$C$21)^Beregningsark!B16)","v":5073.7842559476685},{"$f":"Output!$C$32","v":100000}]
[null,14,{"$f":"C16+(Output!$C$25+Output!$C$26+Output!$C$27)*(((1+Output!$C$20)^Beregningsark!B17)/(1+Output!$C$21)^Beregningsark!B17)","v":84421.474420688028},{"$f":"D16+(Output!$C$25+Output!$C$26+Output!$C$27)*(((1+Output!$C$20)^Beregningsark!B17)/(1+Output!$C$21)^Beregningsark!B17)","v":-15578.525579311983},{"$f":"(Output!$C$25+Output!$C$26+Output!$C$27)*(((1+Output!$C$20)^Beregningsark!B17)/(1+Output!$C$21)^Beregningsark!B17)","v":4923.5221837522959},{"$f":"Output!$C$32","v":100000}]
[null,15,{"$f":"C17+(Output!$C$25+Output!$C$26+Output!$C$27)*(((1+Output!$C$20)^Beregningsark!B18)/(1+Output!$C$21)^Beregningsark!B18)","v":89199.184601306115},{"$f":"D17+(Output!$C$25+Output!$C$26+Output!$C$27)*(((1+Output!$C$20)^Beregningsark!B18)/(1+Output!$C$21)^Beregningsark!B18)","v":-10800.815398693889},{"$f":"(Output!$C$25+Output!$C$26+Output!$C$27)*(((1+Output!$C$20)^Beregningsark!B18)/(1+Output!$C$21)^Beregningsark!B18)","v":4777.7101806180935},{"$f":"Output!$C$32","v":100000}]
[null,16,{"$f":"C18+(Output!$C$25+Output!$C$26+Output!$C$27)*(((1+Output!$C$20)^Beregningsark!B19)/(1+Output!$C$21)^Beregningsark!B19)","v":93835.401057344367},{"$f":"D18+(Output!$C$25+Output!$C$26+Output!$C$27)*(((1+Output!$C$20)^Beregningsark!B19)/(1+Output!$C$21)^Beregningsark!B19)","v":-6164.598942655638},{"$f":"(Output!$C$25+Output!$C$26+Output!$C$27)*(((1+Output!$C$20)^Beregningsark!B19)/(1+Output!$C$21)^Beregningsark!B19)","v":4636.2164560382507},{"$f":"Output!$C$32","v":100000}]
[null,17,{"$f":"C19+(Output!$C$25+Output!$C$26+Output!$C$27)*(((1+Output!$C$20)^Beregningsark!B20)/(1+Output!$C$21)^Beregningsark!B20)","v":98334.314179876863},{"$f":"D19+(Output!$C$25+Output!$C$26+Output!$C$27)*(((1+Output!$C$20)^Beregningsark!B20)/(1+Output!$C$21)^Beregningsark!B20)","v":-1665.6858201231353},{"$f":"(Output!$C$25+Output!$C$26+Output!$C$27)*(((1+Output!$C$20)^Beregningsark!B20)/(1+Output!$C$21)^Beregningsark!B20)","v":4498.9131225325027},{"$f":"Output!$C$32","v":100000}]
[null,18,{"$f":"C20+(Output!$C$25+Output!$C$26+Output!$C$27)*(((1+Output!$C$20)^Beregningsark!B21)/(1+Output!$C$21)^Beregningsark!B21)","v":102699.99025993436},{"$f":"D20+(Output!$C$25+Output!$C$26+Output!$C$27)*(((1+Output!$C$20)^Beregningsark!B21)/(1+Output!$C$21)^Beregningsark!B21)","v":2699.9902599343668},{"$f":"(Output!$C$25+Output!$C$26+Output!$C$27)*(((1+Output!$C$20)^Beregningsark!B21)/(1+Output!$C$21)^Beregningsark!B21)","v":4365.6760800575021},{"$f":"Output!$C$32","v":100000}]
[null,19,{"$f":"C21+(Output!$C$25+Output!$C$26+Output!$C$27)*(((1+Output!$C$20)^Beregningsark!B22)/(1+Output!$C$21)^Beregningsark!B22)","v":106936.37516377478},{"$f":"D21+(Output!$C$25+Output!$C$26+Output!$C$27)*(((1+Output!$C$20)^Beregningsark!B22)/(1+Output!$C$21)^Beregningsark!B22)","v":6936.3751637747819},{"$f":"(Output!$C$25+Output!$C$26+Output!$C$27)*(((1+Output!$C$20)^Beregningsark!B22)/(1+Output!$C$21)^Beregningsark!B22)","v":4236.3849038404151},{"$f":"Output!$C$32","v":100000}]
[null,20,{"$f":"C22+(Output!$C$25+Output!$C$26+Output!$C$27)*(((1+Output!$C$20)^Beregningsark!B23)/(1+Output!$C$21)^Beregningsark!B23)","v":111047.29789930915},{"$f":"D22+(Output!$C$25+Output!$C$26+Output!$C$27)*(((1+Output!$C$20)^Beregningsark!B23)/(1+Output!$C$21)^Beregningsark!B23)","v":11047.297899309155},{"$f":"(Output!$C$25+Output!$C$26+Output!$C$27)*(((1+Output!$C$20)^Beregningsark!B23)/(1+Output!$C$21)^Beregningsark!B23)","v":4110.9227355343728},{"$f":"Output!$C$32","v":100000}]
[null,21,{"$f":"C23+(Output!$C$25+Output!$C$26+Output!$C$27)*(((1+Output!$C$20)^Beregningsark!B24)/(1+Output!$C$21)^Beregningsark!B24)","v":115036.47407690654},{"$f":"D23+(Output!$C$25+Output!$C$26+Output!$C$27)*(((1+Output!$C$20)^Beregningsark!B24)/(1+Output!$C$21)^Beregningsark!B24)","v":15036.474076906547},{"$f":"(Output!$C$25+Output!$C$26+Output!$C$27)*(((1+Output!$C$20)^Beregningsark!B24)/(1+Output!$C$21)^Beregningsark!B24)","v":3989.1761775973928},{"$f":"Output!$C$32","v":100000}]
[null,22,{"$f":"C24+(Output!$C$25+Output!$C$26+Output!$C$27)*(((1+Output!$C$20)^Beregningsark!B25)/(1+Output!$C$21)^Beregningsark!B25)","v":118907.50926770586},{"$f":"D24+(Output!$C$25+Output!$C$26+Output!$C$27)*(((1+Output!$C$20)^Beregningsark!B25)/(1+Output!$C$21)^Beregningsark!B25)","v":18907.509267705864},{"$f":"(Output!$C$25+Output!$C$26+Output!$C$27)*(((1+Output!$C$20)^Beregningsark!B25)/(1+Output!$C$21)^Beregningsark!B25)","v":3871.0351907993172},{"$f":"Output!$C$32","v":100000}]
[null,23,{"$f":"C25+(Output!$C$25+Output!$C$26+Output!$C$27)*(((1+Output!$C$20)^Beregningsark!B26)/(1+Output!$C$21)^Beregningsark!B26)","v":122663.90226246996},{"$f":"D25+(Output!$C$25+Output!$C$26+Output!$C$27)*(((1+Output!$C$20)^Beregningsark!B26)/(1+Output!$C$21)^Beregningsark!B26)","v":22663.902262469972},{"$f":"(Output!$C$25+Output!$C$26+Output!$C$27)*(((1+Output!$C$20)^Beregningsark!B26)/(1+Output!$C$21)^Beregningsark!B26)","v":3756.3929947641063},{"$f":"Output!$C$32","v":100000}]
[null,24,{"$f":"C26+(Output!$C$25+Output!$C$26+Output!$C$27)*(((1+Output!$C$20)^Beregningsark!B27)/(1+Output!$C$21)^Beregningsark!B27)","v":126309.04823392759},{"$f":"D26+(Output!$C$25+Output!$C$26+Output!$C$27)*(((1+Output!$C$20)^Beregningsark!B27)/(1+Output!$C$21)^Beregningsark!B27)","v":26309.048233927606},{"$f":"(Output!$C$25+Output!$C$26+Output!$C$27)*(((1+Output!$C$20)^Beregningsark!B27)/(1+Output!$C$21)^Beregningsark!B27)","v":3645.1459714576322},{"$f":"Output!$C$32","v":100000}]
[null,25,{"$f":"C27+(Output!$C$25+Output!$C$26+Output!$C$27)*(((1+Output!$C$20)^Beregningsark!B28)/(1+Output!$C$21)^Beregningsark!B28)","v":129846.24180546128},{"$f":"D27+(Output!$C$25+Output!$C$26+Output!$C$27)*(((1+Output!$C$20)^Beregningsark!B28)/(1+Output!$C$21)^Beregningsark!B28)","v":29846.241805461301},{"$f":"(Output!$C$25+Output!$C$26+Output!$C$27)*(((1+Output!$C$20)^Beregningsark!B28)/(1+Output!$C$21)^Beregningsark!B28)","v":3537.1935715336945},{"$f":"Output!$C$32","v":100000}]
[null,26,{"$f":"C28+(Output!$C$25+Output!$C$26+Output!$C$27)*(((1+Output!$C$20)^Beregningsark!B29)/(1+Output!$C$21)^Beregningsark!B29)","v":133278.68002891494},{"$f":"D28+(Output!$C$25+Output!$C$26+Output!$C$27)*(((1+Output!$C$20)^Beregningsark!B29)/(1+Output!$C$21)^Beregningsark!B29)","v":33278.680028914961},{"$f":"(Output!$C$25+Output!$C$26+Output!$C$27)*(((1+Output!$C$20)^Beregningsark!B29)/(1+Output!$C$21)^Beregningsark!B29)","v":3432.4382234536588},{"$f":"Output!$C$32","v":100000}]
[null,27,{"$f":"C29+(Output!$C$25+Output!$C$26+Output!$C$27)*(((1+Output!$C$20)^Beregningsark!B30)/(1+Output!$C$21)^Beregningsark!B30)","v":136609.46527421247},{"$f":"D29+(Output!$C$25+Output!$C$26+Output!$C$27)*(((1+Output!$C$20)^Beregningsark!B30)/(1+Output!$C$21)^Beregningsark!B30)","v":36609.465274212489},{"$f":"(Output!$C$25+Output!$C$26+Output!$C$27)*(((1+Output!$C$20)^Beregningsark!B30)/(1+Output!$C$21)^Beregningsark!B30)","v":3330.7852452975308},{"$f":"Output!$C$32","v":100000}]
[null,28,{"$f":"C30+(Output!$C$25+Output!$C$26+Output!$C$27)*(((1+Output!$C$20)^Beregningsark!B31)/(1+Output!$C$21)^Beregningsark!B31)","v":139841.60803339927},{"$f":"D30+(Output!$C$25+Output!$C$26+Output!$C$27)*(((1+Output!$C$20)^Beregningsark!B31)/(1+Output!$C$21)^Beregningsark!B31)","v":39841.608033399287},{"$f":"(Output!$C$25+Output!$C$26+Output!$C$27)*(((1+Output!$C$20)^Beregningsark!B31)/(1+Output!$C$21)^Beregningsark!B31)","v":3232.1427591867969},{"$f":"Output!$C$32","v":100000}]
[null,29,{"$f":"C31+(Output!$C$25+Output!$C$26+Output!$C$27)*(((1+Output!$C$20)^Beregningsark!B32)/(1+Output!$C$21)^Beregningsark!B32)","v":142978.02964164093},{"$f":"D31+(Output!$C$25+Output!$C$26+Output!$C$27)*(((1+Output!$C$20)^Beregningsark!B32)/(1+Output!$C$21)^Beregningsark!B32)","v":42978.02964164094},{"$f":"(Output!$C$25+Output!$C$26+Output!$C$27)*(((1+Output!$C$20)^Beregningsark!B32)/(1+Output!$C$21)^Beregningsark!B32)","v":3136.4216082416497},{"$f":"Output!$C$32","v":100000}]
[null,30,{"$f":"C32+(Output!$C$25+Output!$C$26+Output!$C$27)*(((1+Output!$C$20)^Beregningsark!B33)/(1+Output!$C$21)^Beregningsark!B33)","v":146021.56491763849},{"$f":"D32+(Output!$C$25+Output!$C$26+Output!$C$27)*(((1+Output!$C$20)^Beregningsark!B33)/(1+Output!$C$21)^Beregningsark!B33)","v":46021.564917638512},{"$f":"(Output!$C$25+Output!$C$26+Output!$C$27)*(((1+Output!$C$20)^Beregningsark!B33)/(1+Output!$C$21)^Beregningsark!B33)","v":3043.5352759975704},{"$f":"Output!$C$32","v":100000}]
[null,31,{"$f":"C33+(Output!$C$25+Output!$C$26+Output!$C$27)*(((1+Output!$C$20)^Beregningsark!B34)/(1+Output!$C$21)^Beregningsark!B34)","v":148974.96472584689},{"$f":"D33+(Output!$C$25+Output!$C$26+Output!$C$27)*(((1+Output!$C$20)^Beregningsark!B34)/(1+Output!$C$21)^Beregningsark!B34)","v":48974.964725846927},{"$f":"(Output!$C$25+Output!$C$26+Output!$C$27)*(((1+Output!$C$20)^Beregningsark!B34)/(1+Output!$C$21)^Beregningsark!B34)","v":2953.3998082084122},{"$f":"Output!$C$32","v":100000}]
[null,32,{"$f":"C34+(Output!$C$25+Output!$C$26+Output!$C$27)*(((1+Output!$C$20)^Beregningsark!B35)/(1+Output!$C$21)^Beregningsark!B35)","v":151840.89846281221},{"$f":"D34+(Output!$C$25+Output!$C$26+Output!$C$27)*(((1+Output!$C$20)^Beregningsark!B35)/(1+Output!$C$21)^Beregningsark!B35)","v":51840.898462812242},{"$f":"(Output!$C$25+Output!$C$26+Output!$C$27)*(((1+Output!$C$20)^Beregningsark!B35)/(1+Output!$C$21)^Beregningsark!B35)","v":2865.9337369653172},{"$f":"Output!$C$32","v":100000}]
[null,33,{"$f":"C35+(Output!$C$25+Output!$C$26+Output!$C$27)*(((1+Output!$C$20)^Beregningsark!B36)/(1+Output!$C$21)^Beregningsark!B36)","v":154621.95646987509},{"$f":"D35+(Output!$C$25+Output!$C$26+Output!$C$27)*(((1+Output!$C$20)^Beregningsark!B36)/(1+Output!$C$21)^Beregningsark!B36)","v":54621.956469875127},{"$f":"(Output!$C$25+Output!$C$26+Output!$C$27)*(((1+Output!$C$20)^Beregningsark!B36)/(1+Output!$C$21)^Beregningsark!B36)","v":2781.058007062883},{"$f":"Output!$C$32","v":100000}]
[null,34,{"$f":"C36+(Output!$C$25+Output!$C$26+Output!$C$27)*(((1+Output!$C$20)^Beregningsark!B37)/(1+Output!$C$21)^Beregningsark!B37)","v":157320.6523744211},{"$f":"D36+(Output!$C$25+Output!$C$26+Output!$C$27)*(((1+Output!$C$20)^Beregningsark!B37)/(1+Output!$C$21)^Beregningsark!B37)","v":57320.652374421144},{"$f":"(Output!$C$25+Output!$C$26+Output!$C$27)*(((1+Output!$C$20)^Beregningsark!B37)/(1+Output!$C$21)^Beregningsark!B37)","v":2698.6959045460208},{"$f":"Output!$C$32","v":100000}]
[null,35,{"$f":"C37+(Output!$C$25+Output!$C$26+Output!$C$27)*(((1+Output!$C$20)^Beregningsark!B38)/(1+Output!$C$21)^Beregningsark!B38)","v":159939.42536179404},{"$f":"D37+(Output!$C$25+Output!$C$26+Output!$C$27)*(((1+Output!$C$20)^Beregningsark!B38)/(1+Output!$C$21)^Beregningsark!B38)","v":59939.42536179407},{"$f":"(Output!$C$25+Output!$C$26+Output!$C$27)*(((1+Output!$C$20)^Beregningsark!B38)/(1+Output!$C$21)^Beregningsark!B38)","v":2618.7729873729272},{"$f":"Output!$C$32","v":100000}]
[null,36,{"$f":"C38+(Output!$C$25+Output!$C$26+Output!$C$27)*(((1+Output!$C$20)^Beregningsark!B39)/(1+Output!$C$21)^Beregningsark!B39)","v":162480.64237992553},{"$f":"D38+(Output!$C$25+Output!$C$26+Output!$C$27)*(((1+Output!$C$20)^Beregningsark!B39)/(1+Output!$C$21)^Beregningsark!B39)","v":62480.642379925572},{"$f":"(Output!$C$25+Output!$C$26+Output!$C$27)*(((1+Output!$C$20)^Beregningsark!B39)/(1+Output!$C$21)^Beregningsark!B39)","v":2541.2170181314991},{"$f":"Output!$C$32","v":100000}]
[null,37,{"$f":"C39+(Output!$C$25+Output!$C$26+Output!$C$27)*(((1+Output!$C$20)^Beregningsark!B40)/(1+Output!$C$22)^Beregningsark!B40)","v":166006.31430676262},{"$f":"D39+(Output!$C$25+Output!$C$26+Output!$C$27)*(((1+Output!$C$20)^Beregningsark!B40)/(1+Output!$C$22)^Beregningsark!B40)","v":66006.314306762666},{"$f":"(Output!$C$25+Output!$C$26+Output!$C$27)*(((1+Output!$C$20)^Beregningsark!B40)/(1+Output!$C$22)^Beregningsark!B40)","v":3525.6719268370994},{"$f":"Output!$C$32","v":100000}]
[null,38,{"$f":"C40+(Output!$C$25+Output!$C$26+Output!$C$27)*(((1+Output!$C$20)^Beregningsark!B41)/(1+Output!$C$22)^Beregningsark!B41)","v":169460.78819857232},{"$f":"D40+(Output!$C$25+Output!$C$26+Output!$C$27)*(((1+Output!$C$20)^Beregningsark!B41)/(1+Output!$C$22)^Beregningsark!B41)","v":69460.78819857238},{"$f":"(Output!$C$25+Output!$C$26+Output!$C$27)*(((1+Output!$C$20)^Beregningsark!B41)/(1+Output!$C$22)^Beregningsark!B41)","v":3454.4738918097096},{"$f":"Output!$C$32","v":100000}]
[null,39,{"$f":"C41+(Output!$C$25+Output!$C$26+Output!$C$27)*(((1+Output!$C$20)^Beregningsark!B42)/(1+Output!$C$22)^Beregningsark!B42)","v":172845.50184091635},{"$f":"D41+(Output!$C$25+Output!$C$26+Output!$C$27)*(((1+Output!$C$20)^Beregningsark!B42)/(1+Output!$C$22)^Beregningsark!B42)","v":72845.501840916419},{"$f":"(Output!$C$25+Output!$C$26+Output!$C$27)*(((1+Output!$C$20)^Beregningsark!B42)/(1+Output!$C$22)^Beregningsark!B42)","v":3384.7136423440379},{"$f":"Output!$C$32","v":100000}]
[null,40,{"$f":"C42+(Output!$C$25+Output!$C$26+Output!$C$27)*(((1+Output!$C$20)^Beregningsark!B43)/(1+Output!$C$22)^Beregningsark!B43)","v":176161.86398446353},{"$f":"D42+(Output!$C$25+Output!$C$26+Output!$C$27)*(((1+Output!$C$20)^Beregningsark!B43)/(1+Output!$C$22)^Beregningsark!B43)","v":76161.863984463605},{"$f":"(Output!$C$25+Output!$C$26+Output!$C$27)*(((1+Output!$C$20)^Beregningsark!B43)/(1+Output!$C$22)^Beregningsark!B43)","v":3316.3621435471882},{"$f":"Output!$C$32","v":100000}]
[null,41,{"$f":"C43+(Output!$C$25+Output!$C$26+Output!$C$27)*(((1+Output!$C$20)^Beregningsark!B44)/(1+Output!$C$22)^Beregningsark!B44)","v":179411.2549313255},{"$f":"D43+(Output!$C$25+Output!$C$26+Output!$C$27)*(((1+Output!$C$20)^Beregningsark!B44)/(1+Output!$C$22)^Beregningsark!B44)","v":79411.254931325573},{"$f":"(Output!$C$25+Output!$C$26+Output!$C$27)*(((1+Output!$C$20)^Beregningsark!B44)/(1+Output!$C$22)^Beregningsark!B44)","v":3249.3909468619636},{"$f":"Output!$C$32","v":100000}]
[null,42,{"$f":"C44+(Output!$C$25+Output!$C$26+Output!$C$27)*(((1+Output!$C$20)^Beregningsark!B45)/(1+Output!$C$22)^Beregningsark!B45)","v":182595.0271095518},{"$f":"D44+(Output!$C$25+Output!$C$26+Output!$C$27)*(((1+Output!$C$20)^Beregningsark!B45)/(1+Output!$C$22)^Beregningsark!B45)","v":82595.027109551884},{"$f":"(Output!$C$25+Output!$C$26+Output!$C$27)*(((1+Output!$C$20)^Beregningsark!B45)/(1+Output!$C$22)^Beregningsark!B45)","v":3183.7721782263047},{"$f":"Output!$C$32","v":100000}]
[null,43,{"$f":"C45+(Output!$C$25+Output!$C$26+Output!$C$27)*(((1+Output!$C$20)^Beregningsark!B46)/(1+Output!$C$22)^Beregningsark!B46)","v":185714.50563602362},{"$f":"D45+(Output!$C$25+Output!$C$26+Output!$C$27)*(((1+Output!$C$20)^Beregningsark!B46)/(1+Output!$C$22)^Beregningsark!B46)","v":85714.505636023721},{"$f":"(Output!$C$25+Output!$C$26+Output!$C$27)*(((1+Output!$C$20)^Beregningsark!B46)/(1+Output!$C$22)^Beregningsark!B46)","v":3119.4785264718321},{"$f":"Output!$C$32","v":100000}]
[null,44,{"$f":"C46+(Output!$C$25+Output!$C$26+Output!$C$27)*(((1+Output!$C$20)^Beregningsark!B47)/(1+Output!$C$22)^Beregningsark!B47)","v":188770.98886798028},{"$f":"D46+(Output!$C$25+Output!$C$26+Output!$C$27)*(((1+Output!$C$20)^Beregningsark!B47)/(1+Output!$C$22)^Beregningsark!B47)","v":88770.988867980399},{"$f":"(Output!$C$25+Output!$C$26+Output!$C$27)*(((1+Output!$C$20)^Beregningsark!B47)/(1+Output!$C$22)^Beregningsark!B47)","v":3056.4832319566744},{"$f":"Output!$C$32","v":100000}]
[null,45,{"$f":"C47+(Output!$C$25+Output!$C$26+Output!$C$27)*(((1+Output!$C$20)^Beregningsark!B48)/(1+Output!$C$22)^Beregningsark!B48)","v":191765.74894340814},{"$f":"D47+(Output!$C$25+Output!$C$26+Output!$C$27)*(((1+Output!$C$20)^Beregningsark!B48)/(1+Output!$C$22)^Beregningsark!B48)","v":91765.748943408238},{"$f":"(Output!$C$25+Output!$C$26+Output!$C$27)*(((1+Output!$C$20)^Beregningsark!B48)/(1+Output!$C$22)^Beregningsark!B48)","v":2994.7600754278405},{"$f":"Output!$C$32","v":100000}]
[null,46,{"$f":"C48+(Output!$C$25+Output!$C$26+Output!$C$27)*(((1+Output!$C$20)^Beregningsark!B49)/(1+Output!$C$22)^Beregningsark!B49)","v":194700.03231051666},{"$f":"D48+(Output!$C$25+Output!$C$26+Output!$C$27)*(((1+Output!$C$20)^Beregningsark!B49)/(1+Output!$C$22)^Beregningsark!B49)","v":94700.032310516763},{"$f":"(Output!$C$25+Output!$C$26+Output!$C$27)*(((1+Output!$C$20)^Beregningsark!B49)/(1+Output!$C$22)^Beregningsark!B49)","v":2934.2833671085214},{"$f":"Output!$C$32","v":100000}]
[null,47,{"$f":"C49+(Output!$C$25+Output!$C$26+Output!$C$27)*(((1+Output!$C$20)^Beregningsark!B50)/(1+Output!$C$22)^Beregningsark!B50)","v":197575.06024652242},{"$f":"D49+(Output!$C$25+Output!$C$26+Output!$C$27)*(((1+Output!$C$20)^Beregningsark!B50)/(1+Output!$C$22)^Beregningsark!B50)","v":97575.060246522509},{"$f":"(Output!$C$25+Output!$C$26+Output!$C$27)*(((1+Output!$C$20)^Beregningsark!B50)/(1+Output!$C$22)^Beregningsark!B50)","v":2875.0279360057471},{"$f":"Output!$C$32","v":100000}]
[null,48,{"$f":"C50+(Output!$C$25+Output!$C$26+Output!$C$27)*(((1+Output!$C$20)^Beregningsark!B51)/(1+Output!$C$22)^Beregningsark!B51)","v":200392.0293659564},{"$f":"D50+(Output!$C$25+Output!$C$26+Output!$C$27)*(((1+Output!$C$20)^Beregningsark!B51)/(1+Output!$C$22)^Beregningsark!B51)","v":100392.02936595649},{"$f":"(Output!$C$25+Output!$C$26+Output!$C$27)*(((1+Output!$C$20)^Beregningsark!B51)/(1+Output!$C$22)^Beregningsark!B51)","v":2816.9691194339816},{"$f":"Output!$C$32","v":100000}]
[null,49,{"$f":"C51+(Output!$C$25+Output!$C$26+Output!$C$27)*(((1+Output!$C$20)^Beregningsark!B52)/(1+Output!$C$22)^Beregningsark!B52)","v":203152.11211870666},{"$f":"D51+(Output!$C$25+Output!$C$26+Output!$C$27)*(((1+Output!$C$20)^Beregningsark!B52)/(1+Output!$C$22)^Beregningsark!B52)","v":103152.11211870676},{"$f":"(Output!$C$25+Output!$C$26+Output!$C$27)*(((1+Output!$C$20)^Beregningsark!B52)/(1+Output!$C$22)^Beregningsark!B52)","v":2760.082752750267},{"$f":"Output!$C$32","v":100000}]
[null,50,{"$f":"C52+(Output!$C$25+Output!$C$26+Output!$C$27)*(((1+Output!$C$20)^Beregningsark!B53)/(1+Output!$C$22)^Beregningsark!B53)","v":205856.45727800333},{"$f":"D52+(Output!$C$25+Output!$C$26+Output!$C$27)*(((1+Output!$C$20)^Beregningsark!B53)/(1+Output!$C$22)^Beregningsark!B53)","v":105856.45727800344},{"$f":"(Output!$C$25+Output!$C$26+Output!$C$27)*(((1+Output!$C$20)^Beregningsark!B53)/(1+Output!$C$22)^Beregningsark!B53)","v":2704.3451592966699},{"$f":"Output!$C$32","v":100000}]
[null,51,{"$f":"C53+(Output!$C$25+Output!$C$26+Output!$C$27)*(((1+Output!$C$20)^Beregningsark!B54)/(1+Output!$C$22)^Beregningsark!B54)","v":208506.19041854917},{"$f":"D53+(Output!$C$25+Output!$C$26+Output!$C$27)*(((1+Output!$C$20)^Beregningsark!B54)/(1+Output!$C$22)^Beregningsark!B54)","v":108506.19041854926},{"$f":"(Output!$C$25+Output!$C$26+Output!$C$27)*(((1+Output!$C$20)^Beregningsark!B54)/(1+Output!$C$22)^Beregningsark!B54)","v":2649.7331405458249},{"$f":"Output!$C$32","v":100000}]
[null,52,{"$f":"C54+(Output!$C$25+Output!$C$26+Output!$C$27)*(((1+Output!$C$20)^Beregningsark!B55)/(1+Output!$C$22)^Beregningsark!B55)","v":211102.41438499466},{"$f":"D54+(Output!$C$25+Output!$C$26+Output!$C$27)*(((1+Output!$C$20)^Beregningsark!B55)/(1+Output!$C$22)^Beregningsark!B55)","v":111102.41438499474},{"$f":"(Output!$C$25+Output!$C$26+Output!$C$27)*(((1+Output!$C$20)^Beregningsark!B55)/(1+Output!$C$22)^Beregningsark!B55)","v":2596.2239664454819},{"$f":"Output!$C$32","v":100000}]
[null,53,{"$f":"C55+(Output!$C$25+Output!$C$26+Output!$C$27)*(((1+Output!$C$20)^Beregningsark!B56)/(1+Output!$C$22)^Beregningsark!B56)","v":213646.20975095269},{"$f":"D55+(Output!$C$25+Output!$C$26+Output!$C$27)*(((1+Output!$C$20)^Beregningsark!B56)/(1+Output!$C$22)^Beregningsark!B56)","v":113646.20975095278},{"$f":"(Output!$C$25+Output!$C$26+Output!$C$27)*(((1+Output!$C$20)^Beregningsark!B56)/(1+Output!$C$22)^Beregningsark!B56)","v":2543.7953659580403},{"$f":"Output!$C$32","v":100000}]
[null,54,{"$f":"C56+(Output!$C$25+Output!$C$26+Output!$C$27)*(((1+Output!$C$20)^Beregningsark!B57)/(1+Output!$C$22)^Beregningsark!B57)","v":216138.63526874382},{"$f":"D56+(Output!$C$25+Output!$C$26+Output!$C$27)*(((1+Output!$C$20)^Beregningsark!B57)/(1+Output!$C$22)^Beregningsark!B57)","v":116138.63526874391},{"$f":"(Output!$C$25+Output!$C$26+Output!$C$27)*(((1+Output!$C$20)^Beregningsark!B57)/(1+Output!$C$22)^Beregningsark!B57)","v":2492.4255177911205},{"$f":"Output!$C$32","v":100000}]
[null,55,{"$f":"C57+(Output!$C$25+Output!$C$26+Output!$C$27)*(((1+Output!$C$20)^Beregningsark!B58)/(1+Output!$C$22)^Beregningsark!B58)","v":218580.72831005914},{"$f":"D57+(Output!$C$25+Output!$C$26+Output!$C$27)*(((1+Output!$C$20)^Beregningsark!B58)/(1+Output!$C$22)^Beregningsark!B58)","v":118580.72831005925},{"$f":"(Output!$C$25+Output!$C$26+Output!$C$27)*(((1+Output!$C$20)^Beregningsark!B58)/(1+Output!$C$22)^Beregningsark!B58)","v":2442.0930413153387},{"$f":"Output!$C$32","v":100000}]
[null,56,{"$f":"C58+(Output!$C$25+Output!$C$26+Output!$C$27)*(((1+Output!$C$20)^Beregningsark!B59)/(1+Output!$C$22)^Beregningsark!B59)","v":220973.50529772462},{"$f":"D58+(Output!$C$25+Output!$C$26+Output!$C$27)*(((1+Output!$C$20)^Beregningsark!B59)/(1+Output!$C$22)^Beregningsark!B59)","v":120973.50529772473},{"$f":"(Output!$C$25+Output!$C$26+Output!$C$27)*(((1+Output!$C$20)^Beregningsark!B59)/(1+Output!$C$22)^Beregningsark!B59)","v":2392.776987665477},{"$f":"Output!$C$32","v":100000}]
[null,57,{"$f":"C59+(Output!$C$25+Output!$C$26+Output!$C$27)*(((1+Output!$C$20)^Beregningsark!B60)/(1+Output!$C$22)^Beregningsark!B60)","v":223317.96212874597},{"$f":"D59+(Output!$C$25+Output!$C$26+Output!$C$27)*(((1+Output!$C$20)^Beregningsark!B60)/(1+Output!$C$22)^Beregningsark!B60)","v":123317.96212874609},{"$f":"(Output!$C$25+Output!$C$26+Output!$C$27)*(((1+Output!$C$20)^Beregningsark!B60)/(1+Output!$C$22)^Beregningsark!B60)","v":2344.4568310213585},{"$f":"Output!$C$32","v":100000}]
[null,58,{"$f":"C60+(Output!$C$25+Output!$C$26+Output!$C$27)*(((1+Output!$C$20)^Beregningsark!B61)/(1+Output!$C$22)^Beregningsark!B61)","v":225615.07458881079},{"$f":"D60+(Output!$C$25+Output!$C$26+Output!$C$27)*(((1+Output!$C$20)^Beregningsark!B61)/(1+Output!$C$22)^Beregningsark!B61)","v":125615.07458881091},{"$f":"(Output!$C$25+Output!$C$26+Output!$C$27)*(((1+Output!$C$20)^Beregningsark!B61)/(1+Output!$C$22)^Beregningsark!B61)","v":2297.1124600648109},{"$f":"Output!$C$32","v":100000}]
[null,59,{"$f":"C61+(Output!$C$25+Output!$C$26+Output!$C$27)*(((1+Output!$C$20)^Beregningsark!B62)/(1+Output!$C$22)^Beregningsark!B62)","v":227865.79875841993},{"$f":"D61+(Output!$C$25+Output!$C$26+Output!$C$27)*(((1+Output!$C$20)^Beregningsark!B62)/(1+Output!$C$22)^Beregningsark!B62)","v":127865.79875842005},{"$f":"(Output!$C$25+Output!$C$26+Output!$C$27)*(((1+Output!$C$20)^Beregningsark!B62)/(1+Output!$C$22)^Beregningsark!B62)","v":2250.7241696091332},{"$f":"Output!$C$32","v":100000}]
[null,60,{"$f":"C62+(Output!$C$25+Output!$C$26+Output!$C$27)*(((1+Output!$C$20)^Beregningsark!B63)/(1+Output!$C$22)^Beregningsark!B63)","v":230071.07141081753},{"$f":"D62+(Output!$C$25+Output!$C$26+Output!$C$27)*(((1+Output!$C$20)^Beregningsark!B63)/(1+Output!$C$22)^Beregningsark!B63)","v":130071.07141081766},{"$f":"(Output!$C$25+Output!$C$26+Output!$C$27)*(((1+Output!$C$20)^Beregningsark!B63)/(1+Output!$C$22)^Beregningsark!B63)","v":2205.2726523976098},{"$f":"Output!$C$32","v":100000}]
[null,61,{"$f":"C63+(Output!$C$25+Output!$C$26+Output!$C$27)*(((1+Output!$C$20)^Beregningsark!B64)/(1+Output!$C$22)^Beregningsark!B64)","v":232231.81040188516},{"$f":"D63+(Output!$C$25+Output!$C$26+Output!$C$27)*(((1+Output!$C$20)^Beregningsark!B64)/(1+Output!$C$22)^Beregningsark!B64)","v":132231.8104018853},{"$f":"(Output!$C$25+Output!$C$26+Output!$C$27)*(((1+Output!$C$20)^Beregningsark!B64)/(1+Output!$C$22)^Beregningsark!B64)","v":2160.7389910676393},{"$f":"Output!$C$32","v":100000}]
[null,62,{"$f":"C64+(Output!$C$25+Output!$C$26+Output!$C$27)*(((1+Output!$C$20)^Beregningsark!B65)/(1+Output!$C$22)^Beregningsark!B65)","v":234348.91505216231},{"$f":"D64+(Output!$C$25+Output!$C$26+Output!$C$27)*(((1+Output!$C$20)^Beregningsark!B65)/(1+Output!$C$22)^Beregningsark!B65)","v":134348.91505216245},{"$f":"(Output!$C$25+Output!$C$26+Output!$C$27)*(((1+Output!$C$20)^Beregningsark!B65)/(1+Output!$C$22)^Beregningsark!B65)","v":2117.1046502771474},{"$f":"Output!$C$32","v":100000}]
[null,63,{"$f":"C65+(Output!$C$25+Output!$C$26+Output!$C$27)*(((1+Output!$C$20)^Beregningsark!B66)/(1+Output!$C$22)^Beregningsark!B66)","v":236423.26652115231},{"$f":"D65+(Output!$C$25+Output!$C$26+Output!$C$27)*(((1+Output!$C$20)^Beregningsark!B66)/(1+Output!$C$22)^Beregningsark!B66)","v":136423.26652115246},{"$f":"(Output!$C$25+Output!$C$26+Output!$C$27)*(((1+Output!$C$20)^Beregningsark!B66)/(1+Output!$C$22)^Beregningsark!B66)","v":2074.3514689899971},{"$f":"Output!$C$32","v":100000}]
[null,64,{"$f":"C66+(Output!$C$25+Output!$C$26+Output!$C$27)*(((1+Output!$C$20)^Beregningsark!B67)/(1+Output!$C$22)^Beregningsark!B67)","v":238455.72817406949},{"$f":"D66+(Output!$C$25+Output!$C$26+Output!$C$27)*(((1+Output!$C$20)^Beregningsark!B67)/(1+Output!$C$22)^Beregningsark!B67)","v":138455.72817406963},{"$f":"(Output!$C$25+Output!$C$26+Output!$C$27)*(((1+Output!$C$20)^Beregningsark!B67)/(1+Output!$C$22)^Beregningsark!B67)","v":2032.4616529171901},{"$f":"Output!$C$32","v":100000}]
[null,65,{"$f":"C67+(Output!$C$25+Output!$C$26+Output!$C$27)*(((1+Output!$C$20)^Beregningsark!B68)/(1+Output!$C$22)^Beregningsark!B68)","v":240447.14594118021},{"$f":"D67+(Output!$C$25+Output!$C$26+Output!$C$27)*(((1+Output!$C$20)^Beregningsark!B68)/(1+Output!$C$22)^Beregningsark!B68)","v":140447.14594118035},{"$f":"(Output!$C$25+Output!$C$26+Output!$C$27)*(((1+Output!$C$20)^Beregningsark!B68)/(1+Output!$C$22)^Beregningsark!B68)","v":1991.4177671107075},{"$f":"Output!$C$32","v":100000}]
[null,66,{"$f":"C68+(Output!$C$25+Output!$C$26+Output!$C$27)*(((1+Output!$C$20)^Beregningsark!B69)/(1+Output!$C$22)^Beregningsark!B69)","v":242398.34866988711},{"$f":"D68+(Output!$C$25+Output!$C$26+Output!$C$27)*(((1+Output!$C$20)^Beregningsark!B69)/(1+Output!$C$22)^Beregningsark!B69)","v":142398.34866988726},{"$f":"(Output!$C$25+Output!$C$26+Output!$C$27)*(((1+Output!$C$20)^Beregningsark!B69)/(1+Output!$C$22)^Beregningsark!B69)","v":1951.2027287069188},{"$f":"Output!$C$32","v":100000}]
[null,67,{"$f":"C69+(Output!$C$25+Output!$C$26+Output!$C$27)*(((1+Output!$C$20)^Beregningsark!B70)/(1+Output!$C$22)^Beregningsark!B70)","v":244310.14846970365},{"$f":"D69+(Output!$C$25+Output!$C$26+Output!$C$27)*(((1+Output!$C$20)^Beregningsark!B70)/(1+Output!$C$22)^Beregningsark!B70)","v":144310.1484697038},{"$f":"(Output!$C$25+Output!$C$26+Output!$C$27)*(((1+Output!$C$20)^Beregningsark!B70)/(1+Output!$C$22)^Beregningsark!B70)","v":1911.7997998165265},{"$f":"Output!$C$32","v":100000}]
[null,68,{"$f":"C70+(Output!$C$25+Output!$C$26+Output!$C$27)*(((1+Output!$C$20)^Beregningsark!B71)/(1+Output!$C$22)^Beregningsark!B71)","v":246183.34105026175},{"$f":"D70+(Output!$C$25+Output!$C$26+Output!$C$27)*(((1+Output!$C$20)^Beregningsark!B71)/(1+Output!$C$22)^Beregningsark!B71)","v":146183.34105026189},{"$f":"(Output!$C$25+Output!$C$26+Output!$C$27)*(((1+Output!$C$20)^Beregningsark!B71)/(1+Output!$C$22)^Beregningsark!B71)","v":1873.1925805580963},{"$f":"Output!$C$32","v":100000}]
[null,69,{"$f":"C71+(Output!$C$25+Output!$C$26+Output!$C$27)*(((1+Output!$C$20)^Beregningsark!B72)/(1+Output!$C$22)^Beregningsark!B72)","v":248018.706052494},{"$f":"D71+(Output!$C$25+Output!$C$26+Output!$C$27)*(((1+Output!$C$20)^Beregningsark!B72)/(1+Output!$C$22)^Beregningsark!B72)","v":148018.70605249415},{"$f":"(Output!$C$25+Output!$C$26+Output!$C$27)*(((1+Output!$C$20)^Beregningsark!B72)/(1+Output!$C$22)^Beregningsark!B72)","v":1835.3650022322631},{"$f":"Output!$C$32","v":100000}]
[null,70,{"$f":"C72+(Output!$C$25+Output!$C$26+Output!$C$27)*(((1+Output!$C$20)^Beregningsark!B73)/(1+Output!$C$22)^Beregningsark!B73)","v":249817.0073731278},{"$f":"D72+(Output!$C$25+Output!$C$26+Output!$C$27)*(((1+Output!$C$20)^Beregningsark!B73)/(1+Output!$C$22)^Beregningsark!B73)","v":149817.00737312794},{"$f":"(Output!$C$25+Output!$C$26+Output!$C$27)*(((1+Output!$C$20)^Beregningsark!B73)/(1+Output!$C$22)^Beregningsark!B73)","v":1798.3013206337866},{"$f":"Output!$C$32","v":100000}]
[null,71,{"$f":"C73+(Output!$C$25+Output!$C$26+Output!$C$27)*(((1+Output!$C$20)^Beregningsark!B74)/(1+Output!$C$23)^Beregningsark!B74)","v":253339.36330737796},{"$f":"D73+(Output!$C$25+Output!$C$26+Output!$C$27)*(((1+Output!$C$20)^Beregningsark!B74)/(1+Output!$C$23)^Beregningsark!B74)","v":153339.36330737811},{"$f":"(Output!$C$25+Output!$C$26+Output!$C$27)*(((1+Output!$C$20)^Beregningsark!B74)/(1+Output!$C$23)^Beregningsark!B74)","v":3522.3559342501785},{"$f":"Output!$C$32","v":100000}]
[null,72,{"$f":"C74+(Output!$C$25+Output!$C$26+Output!$C$27)*(((1+Output!$C$20)^Beregningsark!B75)/(1+Output!$C$23)^Beregningsark!B75)","v":256824.42370820668},{"$f":"D74+(Output!$C$25+Output!$C$26+Output!$C$27)*(((1+Output!$C$20)^Beregningsark!B75)/(1+Output!$C$23)^Beregningsark!B75)","v":156824.42370820683},{"$f":"(Output!$C$25+Output!$C$26+Output!$C$27)*(((1+Output!$C$20)^Beregningsark!B75)/(1+Output!$C$23)^Beregningsark!B75)","v":3485.0604008287064},{"$f":"Output!$C$32","v":100000}]
[null,73,{"$f":"C75+(Output!$C$25+Output!$C$26+Output!$C$27)*(((1+Output!$C$20)^Beregningsark!B76)/(1+Output!$C$23)^Beregningsark!B76)","v":260272.58346949721},{"$f":"D75+(Output!$C$25+Output!$C$26+Output!$C$27)*(((1+Output!$C$20)^Beregningsark!B76)/(1+Output!$C$23)^Beregningsark!B76)","v":160272.58346949736},{"$f":"(Output!$C$25+Output!$C$26+Output!$C$27)*(((1+Output!$C$20)^Beregningsark!B76)/(1+Output!$C$23)^Beregningsark!B76)","v":3448.1597612905211},{"$f":"Output!$C$32","v":100000}]
[null,74,{"$f":"C76+(Output!$C$25+Output!$C$26+Output!$C$27)*(((1+Output!$C$20)^Beregningsark!B77)/(1+Output!$C$23)^Beregningsark!B77)","v":263684.23330390349},{"$f":"D76+(Output!$C$25+Output!$C$26+Output!$C$27)*(((1+Output!$C$20)^Beregningsark!B77)/(1+Output!$C$23)^Beregningsark!B77)","v":163684.23330390363},{"$f":"(Output!$C$25+Output!$C$26+Output!$C$27)*(((1+Output!$C$20)^Beregningsark!B77)/(1+Output!$C$23)^Beregningsark!B77)","v":3411.6498344062684},{"$f":"Output!$C$32","v":100000}]
[null,75,{"$f":"C77+(Output!$C$25+Output!$C$26+Output!$C$27)*(((1+Output!$C$20)^Beregningsark!B78)/(1+Output!$C$23)^Beregningsark!B78)","v":267059.7597871219},{"$f":"D77+(Output!$C$25+Output!$C$26+Output!$C$27)*(((1+Output!$C$20)^Beregningsark!B78)/(1+Output!$C$23)^Beregningsark!B78)","v":167059.75978712208},{"$f":"(Output!$C$25+Output!$C$26+Output!$C$27)*(((1+Output!$C$20)^Beregningsark!B78)/(1+Output!$C$23)^Beregningsark!B78)","v":3375.5264832184384},{"$f":"Output!$C$32","v":100000}]
[null,76,{"$f":"C78+(Output!$C$25+Output!$C$26+Output!$C$27)*(((1+Output!$C$20)^Beregningsark!B79)/(1+Output!$C$23)^Beregningsark!B79)","v":270399.54540169449},{"$f":"D78+(Output!$C$25+Output!$C$26+Output!$C$27)*(((1+Output!$C$20)^Beregningsark!B79)/(1+Output!$C$23)^Beregningsark!B79)","v":170399.54540169466},{"$f":"(Output!$C$25+Output!$C$26+Output!$C$27)*(((1+Output!$C$20)^Beregningsark!B79)/(1+Output!$C$23)^Beregningsark!B79)","v":3339.7856145725964},{"$f":"Output!$C$32","v":100000}]
[null,77,{"$f":"C79+(Output!$C$25+Output!$C$26+Output!$C$27)*(((1+Output!$C$20)^Beregningsark!B80)/(1+Output!$C$23)^Beregningsark!B80)","v":273703.96858034807},{"$f":"D79+(Output!$C$25+Output!$C$26+Output!$C$27)*(((1+Output!$C$20)^Beregningsark!B80)/(1+Output!$C$23)^Beregningsark!B80)","v":173703.96858034824},{"$f":"(Output!$C$25+Output!$C$26+Output!$C$27)*(((1+Output!$C$20)^Beregningsark!B80)/(1+Output!$C$23)^Beregningsark!B80)","v":3304.4231786535925},{"$f":"Output!$C$32","v":100000}]
[null,78,{"$f":"C80+(Output!$C$25+Output!$C$26+Output!$C$27)*(((1+Output!$C$20)^Beregningsark!B81)/(1+Output!$C$23)^Beregningsark!B81)","v":276973.40374887473},{"$f":"D80+(Output!$C$25+Output!$C$26+Output!$C$27)*(((1+Output!$C$20)^Beregningsark!B81)/(1+Output!$C$23)^Beregningsark!B81)","v":176973.4037488749},{"$f":"(Output!$C$25+Output!$C$26+Output!$C$27)*(((1+Output!$C$20)^Beregningsark!B81)/(1+Output!$C$23)^Beregningsark!B81)","v":3269.4351685266724},{"$f":"Output!$C$32","v":100000}]
[null,79,{"$f":"C81+(Output!$C$25+Output!$C$26+Output!$C$27)*(((1+Output!$C$20)^Beregningsark!B82)/(1+Output!$C$23)^Beregningsark!B82)","v":280208.22136855818},{"$f":"D81+(Output!$C$25+Output!$C$26+Output!$C$27)*(((1+Output!$C$20)^Beregningsark!B82)/(1+Output!$C$23)^Beregningsark!B82)","v":180208.22136855836},{"$f":"(Output!$C$25+Output!$C$26+Output!$C$27)*(((1+Output!$C$20)^Beregningsark!B82)/(1+Output!$C$23)^Beregningsark!B82)","v":3234.8176196834497},{"$f":"Output!$C$32","v":100000}]
[null,80,{"$f":"C82+(Output!$C$25+Output!$C$26+Output!$C$27)*(((1+Output!$C$20)^Beregningsark!B83)/(1+Output!$C$23)^Beregningsark!B83)","v":283408.78797815088},{"$f":"D82+(Output!$C$25+Output!$C$26+Output!$C$27)*(((1+Output!$C$20)^Beregningsark!B83)/(1+Output!$C$23)^Beregningsark!B83)","v":183408.78797815103},{"$f":"(Output!$C$25+Output!$C$26+Output!$C$27)*(((1+Output!$C$20)^Beregningsark!B83)/(1+Output!$C$23)^Beregningsark!B83)","v":3200.5666095926845},{"$f":"Output!$C$32","v":100000}]
[null,81,{"$f":"C83+(Output!$C$25+Output!$C$26+Output!$C$27)*(((1+Output!$C$20)^Beregningsark!B84)/(1+Output!$C$23)^Beregningsark!B84)","v":286575.4662354067},{"$f":"D83+(Output!$C$25+Output!$C$26+Output!$C$27)*(((1+Output!$C$20)^Beregningsark!B84)/(1+Output!$C$23)^Beregningsark!B84)","v":186575.46623540684},{"$f":"(Output!$C$25+Output!$C$26+Output!$C$27)*(((1+Output!$C$20)^Beregningsark!B84)/(1+Output!$C$23)^Beregningsark!B84)","v":3166.6782572558209},{"$f":"Output!$C$32","v":100000}]
[null,82,{"$f":"C84+(Output!$C$25+Output!$C$26+Output!$C$27)*(((1+Output!$C$20)^Beregningsark!B85)/(1+Output!$C$23)^Beregningsark!B85)","v":289708.61495817394},{"$f":"D84+(Output!$C$25+Output!$C$26+Output!$C$27)*(((1+Output!$C$20)^Beregningsark!B85)/(1+Output!$C$23)^Beregningsark!B85)","v":189708.61495817406},{"$f":"(Output!$C$25+Output!$C$26+Output!$C$27)*(((1+Output!$C$20)^Beregningsark!B85)/(1+Output!$C$23)^Beregningsark!B85)","v":3133.148722767231},{"$f":"Output!$C$32","v":100000}]
[null,83,{"$f":"C85+(Output!$C$25+Output!$C$26+Output!$C$27)*(((1+Output!$C$20)^Beregningsark!B86)/(1+Output!$C$23)^Beregningsark!B86)","v":292808.58916505304},{"$f":"D85+(Output!$C$25+Output!$C$26+Output!$C$27)*(((1+Output!$C$20)^Beregningsark!B86)/(1+Output!$C$23)^Beregningsark!B86)","v":192808.58916505316},{"$f":"(Output!$C$25+Output!$C$26+Output!$C$27)*(((1+Output!$C$20)^Beregningsark!B86)/(1+Output!$C$23)^Beregningsark!B86)","v":3099.9742068791074},{"$f":"Output!$C$32","v":100000}]
[null,84,{"$f":"C86+(Output!$C$25+Output!$C$26+Output!$C$27)*(((1+Output!$C$20)^Beregningsark!B87)/(1+Output!$C$23)^Beregningsark!B87)","v":295875.74011562404},{"$f":"D86+(Output!$C$25+Output!$C$26+Output!$C$27)*(((1+Output!$C$20)^Beregningsark!B87)/(1+Output!$C$23)^Beregningsark!B87)","v":195875.74011562412},{"$f":"(Output!$C$25+Output!$C$26+Output!$C$27)*(((1+Output!$C$20)^Beregningsark!B87)/(1+Output!$C$23)^Beregningsark!B87)","v":3067.1509505709764},{"$f":"Output!$C$32","v":100000}]
[null,85,{"$f":"C87+(Output!$C$25+Output!$C$26+Output!$C$27)*(((1+Output!$C$20)^Beregningsark!B88)/(1+Output!$C$23)^Beregningsark!B88)","v":298910.41535024781},{"$f":"D87+(Output!$C$25+Output!$C$26+Output!$C$27)*(((1+Output!$C$20)^Beregningsark!B88)/(1+Output!$C$23)^Beregningsark!B88)","v":198910.41535024787},{"$f":"(Output!$C$25+Output!$C$26+Output!$C$27)*(((1+Output!$C$20)^Beregningsark!B88)/(1+Output!$C$23)^Beregningsark!B88)","v":3034.6752346237545},{"$f":"Output!$C$32","v":100000}]
[null,86,{"$f":"C88+(Output!$C$25+Output!$C$26+Output!$C$27)*(((1+Output!$C$20)^Beregningsark!B89)/(1+Output!$C$23)^Beregningsark!B89)","v":301912.95872944617},{"$f":"D88+(Output!$C$25+Output!$C$26+Output!$C$27)*(((1+Output!$C$20)^Beregningsark!B89)/(1+Output!$C$23)^Beregningsark!B89)","v":201912.9587294462},{"$f":"(Output!$C$25+Output!$C$26+Output!$C$27)*(((1+Output!$C$20)^Beregningsark!B89)/(1+Output!$C$23)^Beregningsark!B89)","v":3002.5433791983264},{"$f":"Output!$C$32","v":100000}]
[null,87,{"$f":"C89+(Output!$C$25+Output!$C$26+Output!$C$27)*(((1+Output!$C$20)^Beregningsark!B90)/(1+Output!$C$23)^Beregningsark!B90)","v":304883.71047286474},{"$f":"D89+(Output!$C$25+Output!$C$26+Output!$C$27)*(((1+Output!$C$20)^Beregningsark!B90)/(1+Output!$C$23)^Beregningsark!B90)","v":204883.71047286477},{"$f":"(Output!$C$25+Output!$C$26+Output!$C$27)*(((1+Output!$C$20)^Beregningsark!B90)/(1+Output!$C$23)^Beregningsark!B90)","v":2970.7517434185806},{"$f":"Output!$C$32","v":100000}]
[null,88,{"$f":"C90+(Output!$C$25+Output!$C$26+Output!$C$27)*(((1+Output!$C$20)^Beregningsark!B91)/(1+Output!$C$23)^Beregningsark!B91)","v":307823.00719782361},{"$f":"D90+(Output!$C$25+Output!$C$26+Output!$C$27)*(((1+Output!$C$20)^Beregningsark!B91)/(1+Output!$C$23)^Beregningsark!B91)","v":207823.00719782361},{"$f":"(Output!$C$25+Output!$C$26+Output!$C$27)*(((1+Output!$C$20)^Beregningsark!B91)/(1+Output!$C$23)^Beregningsark!B91)","v":2939.2967249588546},{"$f":"Output!$C$32","v":100000}]
[null,89,{"$f":"C91+(Output!$C$25+Output!$C$26+Output!$C$27)*(((1+Output!$C$20)^Beregningsark!B92)/(1+Output!$C$23)^Beregningsark!B92)","v":310731.18195745937},{"$f":"D91+(Output!$C$25+Output!$C$26+Output!$C$27)*(((1+Output!$C$20)^Beregningsark!B92)/(1+Output!$C$23)^Beregningsark!B92)","v":210731.18195745937},{"$f":"(Output!$C$25+Output!$C$26+Output!$C$27)*(((1+Output!$C$20)^Beregningsark!B92)/(1+Output!$C$23)^Beregningsark!B92)","v":2908.1747596357618},{"$f":"Output!$C$32","v":100000}]
[null,90,{"$f":"C92+(Output!$C$25+Output!$C$26+Output!$C$27)*(((1+Output!$C$20)^Beregningsark!B93)/(1+Output!$C$23)^Beregningsark!B93)","v":313608.56427846372},{"$f":"D92+(Output!$C$25+Output!$C$26+Output!$C$27)*(((1+Output!$C$20)^Beregningsark!B93)/(1+Output!$C$23)^Beregningsark!B93)","v":213608.56427846369},{"$f":"(Output!$C$25+Output!$C$26+Output!$C$27)*(((1+Output!$C$20)^Beregningsark!B93)/(1+Output!$C$23)^Beregningsark!B93)","v":2877.3823210043242},{"$f":"Output!$C$32","v":100000}]
[null,91,{"$f":"C93+(Output!$C$25+Output!$C$26+Output!$C$27)*(((1+Output!$C$20)^Beregningsark!B94)/(1+Output!$C$23)^Beregningsark!B94)","v":316455.4801984221},{"$f":"D93+(Output!$C$25+Output!$C$26+Output!$C$27)*(((1+Output!$C$20)^Beregningsark!B94)/(1+Output!$C$23)^Beregningsark!B94)","v":216455.4801984221},{"$f":"(Output!$C$25+Output!$C$26+Output!$C$27)*(((1+Output!$C$20)^Beregningsark!B94)/(1+Output!$C$23)^Beregningsark!B94)","v":2846.9159199583969},{"$f":"Output!$C$32","v":100000}]
[null,92,{"$f":"C94+(Output!$C$25+Output!$C$26+Output!$C$27)*(((1+Output!$C$20)^Beregningsark!B95)/(1+Output!$C$23)^Beregningsark!B95)","v":319272.25230275741},{"$f":"D94+(Output!$C$25+Output!$C$26+Output!$C$27)*(((1+Output!$C$20)^Beregningsark!B95)/(1+Output!$C$23)^Beregningsark!B95)","v":219272.25230275741},{"$f":"(Output!$C$25+Output!$C$26+Output!$C$27)*(((1+Output!$C$20)^Beregningsark!B95)/(1+Output!$C$23)^Beregningsark!B95)","v":2816.7721043353085},{"$f":"Output!$C$32","v":100000}]
[null,93,{"$f":"C95+(Output!$C$25+Output!$C$26+Output!$C$27)*(((1+Output!$C$20)^Beregningsark!B96)/(1+Output!$C$23)^Beregningsark!B96)","v":322059.19976128213},{"$f":"D95+(Output!$C$25+Output!$C$26+Output!$C$27)*(((1+Output!$C$20)^Beregningsark!B96)/(1+Output!$C$23)^Beregningsark!B96)","v":222059.1997612821},{"$f":"(Output!$C$25+Output!$C$26+Output!$C$27)*(((1+Output!$C$20)^Beregningsark!B96)/(1+Output!$C$23)^Beregningsark!B96)","v":2786.9474585246994},{"$f":"Output!$C$32","v":100000}]
[null,94,{"$f":"C96+(Output!$C$25+Output!$C$26+Output!$C$27)*(((1+Output!$C$20)^Beregningsark!B97)/(1+Output!$C$23)^Beregningsark!B97)","v":324816.63836436364},{"$f":"D96+(Output!$C$25+Output!$C$26+Output!$C$27)*(((1+Output!$C$20)^Beregningsark!B97)/(1+Output!$C$23)^Beregningsark!B97)","v":224816.63836436361},{"$f":"(Output!$C$25+Output!$C$26+Output!$C$27)*(((1+Output!$C$20)^Beregningsark!B97)/(1+Output!$C$23)^Beregningsark!B97)","v":2757.4386030814971},{"$f":"Output!$C$32","v":100000}]
[null,95,{"$f":"C97+(Output!$C$25+Output!$C$26+Output!$C$27)*(((1+Output!$C$20)^Beregningsark!B98)/(1+Output!$C$23)^Beregningsark!B98)","v":327544.88055870665},{"$f":"D97+(Output!$C$25+Output!$C$26+Output!$C$27)*(((1+Output!$C$20)^Beregningsark!B98)/(1+Output!$C$23)^Beregningsark!B98)","v":227544.88055870659},{"$f":"(Output!$C$25+Output!$C$26+Output!$C$27)*(((1+Output!$C$20)^Beregningsark!B98)/(1+Output!$C$23)^Beregningsark!B98)","v":2728.2421943429881},{"$f":"Output!$C$32","v":100000}]
[null,96,{"$f":"C98+(Output!$C$25+Output!$C$26+Output!$C$27)*(((1+Output!$C$20)^Beregningsark!B99)/(1+Output!$C$23)^Beregningsark!B99)","v":330244.23548275657},{"$f":"D98+(Output!$C$25+Output!$C$26+Output!$C$27)*(((1+Output!$C$20)^Beregningsark!B99)/(1+Output!$C$23)^Beregningsark!B99)","v":230244.23548275654},{"$f":"(Output!$C$25+Output!$C$26+Output!$C$27)*(((1+Output!$C$20)^Beregningsark!B99)/(1+Output!$C$23)^Beregningsark!B99)","v":2699.3549240499447},{"$f":"Output!$C$32","v":100000}]
[null,97,{"$f":"C99+(Output!$C$25+Output!$C$26+Output!$C$27)*(((1+Output!$C$20)^Beregningsark!B100)/(1+Output!$C$23)^Beregningsark!B100)","v":332915.00900172832},{"$f":"D99+(Output!$C$25+Output!$C$26+Output!$C$27)*(((1+Output!$C$20)^Beregningsark!B100)/(1+Output!$C$23)^Beregningsark!B100)","v":232915.00900172832},{"$f":"(Output!$C$25+Output!$C$26+Output!$C$27)*(((1+Output!$C$20)^Beregningsark!B100)/(1+Output!$C$23)^Beregningsark!B100)","v":2670.7735189717691},{"$f":"Output!$C$32","v":100000}]
[null,98,{"$f":"C100+(Output!$C$25+Output!$C$26+Output!$C$27)*(((1+Output!$C$20)^Beregningsark!B101)/(1+Output!$C$23)^Beregningsark!B101)","v":335557.50374226394},{"$f":"D100+(Output!$C$25+Output!$C$26+Output!$C$27)*(((1+Output!$C$20)^Beregningsark!B101)/(1+Output!$C$23)^Beregningsark!B101)","v":235557.50374226391},{"$f":"(Output!$C$25+Output!$C$26+Output!$C$27)*(((1+Output!$C$20)^Beregningsark!B101)/(1+Output!$C$23)^Beregningsark!B101)","v":2642.4947405355979},{"$f":"Output!$C$32","v":100000}]
[null,99,{"$f":"C101+(Output!$C$25+Output!$C$26+Output!$C$27)*(((1+Output!$C$20)^Beregningsark!B102)/(1+Output!$C$23)^Beregningsark!B102)","v":338172.01912672329},{"$f":"D101+(Output!$C$25+Output!$C$26+Output!$C$27)*(((1+Output!$C$20)^Beregningsark!B102)/(1+Output!$C$23)^Beregningsark!B102)","v":238172.01912672326},{"$f":"(Output!$C$25+Output!$C$26+Output!$C$27)*(((1+Output!$C$20)^Beregningsark!B102)/(1+Output!$C$23)^Beregningsark!B102)","v":2614.5153844593387},{"$f":"Output!$C$32","v":100000}]
[null,100,{"$f":"C102+(Output!$C$25+Output!$C$26+Output!$C$27)*(((1+Output!$C$20)^Beregningsark!B103)/(1+Output!$C$23)^Beregningsark!B103)","v":340758.85140711186},{"$f":"D102+(Output!$C$25+Output!$C$26+Output!$C$27)*(((1+Output!$C$20)^Beregningsark!B103)/(1+Output!$C$23)^Beregningsark!B103)","v":240758.85140711186},{"$f":"(Output!$C$25+Output!$C$26+Output!$C$27)*(((1+Output!$C$20)^Beregningsark!B103)/(1+Output!$C$23)^Beregningsark!B103)","v":2586.8322803885935},{"$f":"Output!$C$32","v":100000}]
[null,101,{"$f":"C103+(Output!$C$25+Output!$C$26+Output!$C$27)*(((1+Output!$C$20)^Beregningsark!B104)/(1+Output!$C$23)^Beregningsark!B104)","v":343318.29369864927},{"$f":"D103+(Output!$C$25+Output!$C$26+Output!$C$27)*(((1+Output!$C$20)^Beregningsark!B104)/(1+Output!$C$23)^Beregningsark!B104)","v":243318.29369864927},{"$f":"(Output!$C$25+Output!$C$26+Output!$C$27)*(((1+Output!$C$20)^Beregningsark!B104)/(1+Output!$C$23)^Beregningsark!B104)","v":2559.4422915374207},{"$f":"Output!$C$32","v":100000}]